BEGIN:VCALENDAR
METHOD:PUBLISH
CALSCALE:GREGORIAN
PRODID://Microsoft Corporation//Outlook 11.0 MIMEDIR//EN
VERSION:2.0
BEGIN:VEVENT
DTSTART;VALUE=DATE:20260526T090000
DTEND;VLUE=DATE:20260526T173000
X-MICROSOFT-CDO-IMPORTANCE:1
DESCRIPTION:A PLMJ, em parceria com o ECO, vem convidar para a conferência, “A nova economia da defesa”, que terá lugar no dia 26 de maio, entre as 9h00 e as 17h30, no Auditório da PLMJ.Num contexto em que há um desígnio global de reforço do investimento nesta área, é preciso diagnóstico da necessidade de robustecer a defesa nacional e europeia à ação e isso requer o alinhamento de um conjunto de fatores: desde a regulação, ao financiamento e à agilização da própria contratação pública. Acresce que falar em defesa é obviamente falar em segurança de informação, pelo que o ecossistema da defesa terá que ser pensado em toda a sua complexidade.\nVamos cobrir quatro grandes temas.\nI. Contratação pública de defesa e segurança - o risco de "curto circuito"?\nII. IA e defesa: o desafio ético, a regulação e a segurança da informação\nIII. Financiamento e estruturação do investimento em defesa\nIV. Novas tecnologias na defesa\nPodemos contar consigo?\n
DTSTAMP:20260526T090000
CLASS:PUBLIC
LOCATION:Auditório PLMJ - Avenida Fontes Pereira de Melo, nº 43, Lisboa
PRIORITY:5
SEQUENCE:0
SUMMARY:A nova economia da defesa
TRANSP:OPAQUE
UID:event_34485@plmj.com
BEGIN:VALARM
ACTION:DISPLAY
DESCRIPTION:Reminder
TRIGGER:-PT60M
END:VALARM
END:VEVENT
END:VCALENDAR