BEGIN:VCALENDAR
METHOD:PUBLISH
CALSCALE:GREGORIAN
PRODID://Microsoft Corporation//Outlook 11.0 MIMEDIR//EN
VERSION:2.0
BEGIN:VEVENT
DTSTART;VALUE=DATE:20260422T090000
DTEND;VLUE=DATE:20260422T110000
X-MICROSOFT-CDO-IMPORTANCE:1
DESCRIPTION:Em 2025, o mercado imobiliário português registou um retorno total anual de 8,5%, o segundo melhor desempenho dos últimos oito anos, com destaque para os setores hoteleiro e de retalho.A PLMJ e a MSCI convidam para a apresentação dos resultados do Índice Imobiliário Anual MSCI Portugal 2025.\nEste encontro reúne os principais intervenientes do setor para analisar a evolução do mercado imobiliário português no contexto europeu e internacional. Descubra o desempenho dos diferentes setores e as principais tendências de investimento e rentabilidade.\nJunte-se a nós no dia 22 de abril, no Auditório da PLMJ, em Lisboa, para conhecer em detalhe os resultados do Índice Imobiliário Anual MSCI Portugal 2025.\nEsperamos por si!\n\n\nPrograma: https://www.plmj.com/xms/files/04_Eventos/2026/PLMJ_Sessions_MSCI_programa.pdf\n\nOradores: Francisco Lino Dias
DTSTAMP:20260422T090000
CLASS:PUBLIC
LOCATION:PLMJ Lisboa - Avenida Fontes Pereira de Melo, nº 43
PRIORITY:5
SEQUENCE:0
SUMMARY:Apresentação dos resultados do índice imobiliário anual MSCI Portugal 2025
TRANSP:OPAQUE
UID:event_34442@plmj.com
BEGIN:VALARM
ACTION:DISPLAY
DESCRIPTION:Reminder
TRIGGER:-PT60M
END:VALARM
END:VEVENT
END:VCALENDAR