BEGIN:VCALENDAR
METHOD:PUBLISH
CALSCALE:GREGORIAN
PRODID://Microsoft Corporation//Outlook 11.0 MIMEDIR//EN
VERSION:2.0
BEGIN:VEVENT
DTSTART;VALUE=DATE:20260519T093000
DTEND;VLUE=DATE:20260519T110000
X-MICROSOFT-CDO-IMPORTANCE:1
DESCRIPTION:Por ocasião dos 25 anos do escritório da PLMJ no Porto, vimos convidar para um pequeno-almoço – conferência onde o mote é pensar a cidade do Porto para os próximos 25 anos e em quatro dimensões: a economia e as empresas, a cultura e o espaço público, a educação e o talento, e a habitação e a qualidade de vida.\nTemos o gosto de ter connosco quatro pessoas que têm percursos distintivos em cada uma destas áreas e que aceitaram o nosso desafio para uma manhã de partilha de uma visão sobre o futuro da nossa cidade: Presidente da Associação comercial do Porto, Nuno Botelho, o arquiteto Manuel Correia Fernandes, a Presidente do Conselho de Curadores da Fundação Serralves, Ana Pinho e a vereadora da Câmara Municipal do Porto e professora universitária no Instituto Politécnico do Porto, Rosário Gamboa.\nQueremos celebrar com os nossos amigos, clientes e parceiros uma história que tem sido construída juntos e começamos com este encontro, em maio.\nPodemos contar consigo?\n\n\nOrganização: PLMJ\n\nPrograma: https://www.plmj.com/xms/files/04_Eventos/2026/Conferencia_25_anos_porto_programa.pdf
DTSTAMP:20260519T093000
CLASS:PUBLIC
LOCATION:PLMJ Porto
PRIORITY:5
SEQUENCE:0
SUMMARY:O Porto em 2050: sonhar a cidade do futuro
TRANSP:OPAQUE
UID:event_34488@plmj.com
BEGIN:VALARM
ACTION:DISPLAY
DESCRIPTION:Reminder
TRIGGER:-PT60M
END:VALARM
END:VEVENT
END:VCALENDAR